BEGIN:VCALENDAR
VERSION:2.0
PRODID:-//Home4Birth - ECPv6.15.20//NONSGML v1.0//EN
CALSCALE:GREGORIAN
METHOD:PUBLISH
X-WR-CALNAME:Home4Birth
X-ORIGINAL-URL:https://www.home4birth.com
X-WR-CALDESC:Events for Home4Birth
REFRESH-INTERVAL;VALUE=DURATION:PT1H
X-Robots-Tag:noindex
X-PUBLISHED-TTL:PT1H
BEGIN:VTIMEZONE
TZID:America/New_York
BEGIN:DAYLIGHT
TZOFFSETFROM:-0500
TZOFFSETTO:-0400
TZNAME:EDT
DTSTART:20250309T070000
END:DAYLIGHT
BEGIN:STANDARD
TZOFFSETFROM:-0400
TZOFFSETTO:-0500
TZNAME:EST
DTSTART:20251102T060000
END:STANDARD
BEGIN:DAYLIGHT
TZOFFSETFROM:-0500
TZOFFSETTO:-0400
TZNAME:EDT
DTSTART:20260308T070000
END:DAYLIGHT
BEGIN:STANDARD
TZOFFSETFROM:-0400
TZOFFSETTO:-0500
TZNAME:EST
DTSTART:20261101T060000
END:STANDARD
BEGIN:DAYLIGHT
TZOFFSETFROM:-0500
TZOFFSETTO:-0400
TZNAME:EDT
DTSTART:20270314T070000
END:DAYLIGHT
BEGIN:STANDARD
TZOFFSETFROM:-0400
TZOFFSETTO:-0500
TZNAME:EST
DTSTART:20271107T060000
END:STANDARD
END:VTIMEZONE
BEGIN:VEVENT
DTSTART;TZID=America/New_York:20260422T120000
DTEND;TZID=America/New_York:20260422T130000
DTSTAMP:20260420T043937
CREATED:20200319T155209Z
LAST-MODIFIED:20260416T162942Z
UID:4166-1776859200-1776862800@www.home4birth.com
SUMMARY:Meet the Midwives
DESCRIPTION:If you are interested in learning more about home birth and our practice\, please join us for this Zoom Meet the Midwives event. We will provide you with all of the information you need to make an informed decision regarding your care. We will also answer any questions you may have\, publicly or privately\, whichever you prefer. \nIf you plan to attend\, please RSVP by calling our office\, 765-643-9433 or by emailing with your name and contact phone number. In the event of a birth you will be notified as to be respectful of your time.
URL:https://www.home4birth.com/event/meet-the-midwives-127/
LOCATION:Zoom Meeting\, IN\, United States
CATEGORIES:Upcoming Events
ORGANIZER;CN="Home4Birth":MAILTO:officeadmin@Home4Birth.com
END:VEVENT
BEGIN:VEVENT
DTSTART;TZID=America/New_York:20260428T120000
DTEND;TZID=America/New_York:20260428T130000
DTSTAMP:20260420T043937
CREATED:20200319T153815Z
LAST-MODIFIED:20260416T163437Z
UID:4157-1777377600-1777381200@www.home4birth.com
SUMMARY:Meet the Midwives
DESCRIPTION:If you are interested in learning more about home birth and our practice\, please join us to Meet the Midwives\, via Zoom. We will provide you with all of the information you need to make an informed decision regarding your care. We will also answer any questions you may have\, publicly or privately\, whichever you prefer. \nIf you plan to attend\, please RSVP by calling our office\, 765-643-9433 or by emailing with your name and contact phone number. In the event of a birth you will be notified as to be respectful of your time.
URL:https://www.home4birth.com/event/meet-the-midwives-124/
LOCATION:Zoom Meeting\, IN\, United States
CATEGORIES:Upcoming Events
ORGANIZER;CN="Home4Birth":MAILTO:officeadmin@Home4Birth.com
END:VEVENT
BEGIN:VEVENT
DTSTART;TZID=America/New_York:20260506T120000
DTEND;TZID=America/New_York:20260506T130000
DTSTAMP:20260420T043937
CREATED:20161102T133543Z
LAST-MODIFIED:20260416T163532Z
UID:2172-1778068800-1778072400@www.home4birth.com
SUMMARY:Meet the Midwives
DESCRIPTION:If you are interested in learning more about home birth and our practice\, please join us and Meet the Midwives via Zoom. We will provide you with all of the information you need to make an informed decision regarding your care. We will also answer any questions you may have\, publicly or privately\, whichever you prefer. \nIf you plan to attend\, please RSVP by calling our office\, 765-643-9433 or by emailing info@Home4Birth.com with your name and contact phone number. In the event of a birth you will be notified as to be respectful of your time.
URL:https://www.home4birth.com/event/meet-the-midwives-19/
LOCATION:Zoom Meeting\, IN\, United States
CATEGORIES:Upcoming Events
ORGANIZER;CN="Home4Birth":MAILTO:officeadmin@Home4Birth.com
END:VEVENT
BEGIN:VEVENT
DTSTART;TZID=America/New_York:20260512T120000
DTEND;TZID=America/New_York:20260512T130000
DTSTAMP:20260420T043937
CREATED:20200526T194243Z
LAST-MODIFIED:20260416T163717Z
UID:4349-1778587200-1778590800@www.home4birth.com
SUMMARY:Meet the Midwives
DESCRIPTION:If you are interested in learning more about home birth and our practice\, please join us and Meet the Midwives via Zoom. We will provide you with all of the information you need to make an informed decision regarding your care. We will also answer any questions you may have\, publicly or privately\, whichever you prefer. \nIf you plan to attend\, please RSVP by calling our office or by emailing with your name and contact phone number. In the event of a birth you will be notified as to be respectful of your time.
URL:https://www.home4birth.com/event/meet-the-midwives-129/
LOCATION:Zoom Meeting\, IN\, United States
CATEGORIES:Upcoming Events
ORGANIZER;CN="Home4Birth":MAILTO:officeadmin@Home4Birth.com
END:VEVENT
BEGIN:VEVENT
DTSTART;TZID=America/New_York:20260520T120000
DTEND;TZID=America/New_York:20260520T130000
DTSTAMP:20260420T043937
CREATED:20161102T133146Z
LAST-MODIFIED:20260416T163842Z
UID:2169-1779278400-1779282000@www.home4birth.com
SUMMARY:Meet the Midwives
DESCRIPTION:If you are interested in learning more about home birth and our practice\, please join us for an evening and Meet the Midwives\, via Zoom. We will provide you with all of the information you need to make an informed decision regarding your care. We will also answer any questions you may have\, publicly or privately\, whichever you prefer. \nIf you plan to attend\, please RSVP by calling our office\, 765-643-9433 or by emailing info@Home4Birth.com with your name and contact phone number. In the event of a birth you will be notified as to be respectful of your time.
URL:https://www.home4birth.com/event/meet-the-midwives-18/
LOCATION:Zoom Meeting\, IN\, United States
CATEGORIES:Upcoming Events
ORGANIZER;CN="Home4Birth":MAILTO:officeadmin@Home4Birth.com
END:VEVENT
END:VCALENDAR